BEGIN:VCALENDAR
VERSION:2.0
PRODID:-//Watsons Athletic Club - ECPv5.1.4//NONSGML v1.0//EN
CALSCALE:GREGORIAN
METHOD:PUBLISH
X-WR-CALNAME:Watsons Athletic Club
X-ORIGINAL-URL:https://wac.aswatson.com
X-WR-CALDESC:Events for Watsons Athletic Club
BEGIN:VTIMEZONE
TZID:Asia/Shanghai
BEGIN:STANDARD
TZOFFSETFROM:+0800
TZOFFSETTO:+0800
TZNAME:CST
DTSTART:20251231T160000
END:STANDARD
END:VTIMEZONE
BEGIN:VEVENT
DTSTART;VALUE=DATE:20260528
DTEND;VALUE=DATE:20260601
DTSTAMP:20260422T143922
CREATED:20260422T100210Z
LAST-MODIFIED:20260422T100943Z
UID:15044-1779897600-1780243199@wac.aswatson.com
SUMMARY:Asian U20 Athletics Championships
DESCRIPTION:
URL:https://wac.aswatson.com/event/asian-u20-athletics-championships/
LOCATION:Kai Tak Youth Sports Ground\, 38 Shing Kai Road\, Kai Tak\, Kowloon\, Hong Kong
CATEGORIES:Track and Field
ORGANIZER;CN="%5B%3Aen%5DHong%20Kong%2C%20China%20Association%20of%20Athletics%20Affiliates%5B%3Azh%5D%E4%B8%AD%E5%9C%8B%E9%A6%99%E6%B8%AF%E7%94%B0%E5%BE%91%E7%B8%BD%E6%9C%83%5B%3A%5D":MAILTO:inquiry@hkaaa.com
END:VEVENT
END:VCALENDAR