BEGIN:VCALENDAR
VERSION:2.0
PRODID:-//Watsons Athletic Club - ECPv5.1.4//NONSGML v1.0//EN
CALSCALE:GREGORIAN
METHOD:PUBLISH
X-WR-CALNAME:Watsons Athletic Club
X-ORIGINAL-URL:https://wac.aswatson.com
X-WR-CALDESC:Events for Watsons Athletic Club
BEGIN:VTIMEZONE
TZID:Asia/Shanghai
BEGIN:STANDARD
TZOFFSETFROM:+0800
TZOFFSETTO:+0800
TZNAME:CST
DTSTART:20211231T160000
END:STANDARD
END:VTIMEZONE
BEGIN:VEVENT
DTSTART;VALUE=DATE:20221001
DTEND;VALUE=DATE:20221003
DTSTAMP:20260420T182248
CREATED:20211208T144316Z
LAST-MODIFIED:20211208T144316Z
UID:9981-1664553600-1664726399@wac.aswatson.com
SUMMARY:WAC Annual Challenge 2022 (Day 3 & 4)
DESCRIPTION:
URL:https://wac.aswatson.com/event/wac-annual-challenge-2022-day-3-4/
LOCATION:Wan Chai Sports Ground\, 20 Tonnochy Road\, Wan Chai\, Hong Kong
END:VEVENT
END:VCALENDAR