BEGIN:VCALENDAR
VERSION:2.0
PRODID:-//Watsons Athletic Club - ECPv5.1.4//NONSGML v1.0//EN
CALSCALE:GREGORIAN
METHOD:PUBLISH
X-WR-CALNAME:Watsons Athletic Club
X-ORIGINAL-URL:https://wac.aswatson.com
X-WR-CALDESC:Events for Watsons Athletic Club
BEGIN:VTIMEZONE
TZID:Asia/Shanghai
BEGIN:STANDARD
TZOFFSETFROM:+0800
TZOFFSETTO:+0800
TZNAME:CST
DTSTART:20211231T160000
END:STANDARD
END:VTIMEZONE
BEGIN:VEVENT
DTSTART;VALUE=DATE:20220924
DTEND;VALUE=DATE:20220926
DTSTAMP:20260420T181954
CREATED:20211208T135904Z
LAST-MODIFIED:20211208T144333Z
UID:9964-1663948800-1664121599@wac.aswatson.com
SUMMARY:WAC Annual Challenge 2022 (Day 1 & 2)
DESCRIPTION:
URL:https://wac.aswatson.com/event/wac-annual-challenge-2022/
LOCATION:Wan Chai Sports Ground\, 20 Tonnochy Road\, Wan Chai\, Hong Kong
ORGANIZER;CN="%5B%3Aen%5DWatsons%20Athletic%20Club%5B%3Azh%5D%E5%B1%88%E8%87%A3%E6%B0%8F%E7%94%B0%E5%BE%91%E6%9C%83%5B%3A%5D":MAILTO:wac@aswatson.com
END:VEVENT
END:VCALENDAR