BEGIN:VCALENDAR
VERSION:2.0
PRODID:-//Watsons Athletic Club - ECPv5.1.4//NONSGML v1.0//EN
CALSCALE:GREGORIAN
METHOD:PUBLISH
X-WR-CALNAME:Watsons Athletic Club
X-ORIGINAL-URL:https://wac.aswatson.com
X-WR-CALDESC:Events for Watsons Athletic Club
BEGIN:VTIMEZONE
TZID:Asia/Shanghai
BEGIN:STANDARD
TZOFFSETFROM:+0800
TZOFFSETTO:+0800
TZNAME:CST
DTSTART:20221231T160000
END:STANDARD
END:VTIMEZONE
BEGIN:VEVENT
DTSTART;VALUE=DATE:20230513
DTEND;VALUE=DATE:20230515
DTSTAMP:20260422T033818
CREATED:20230420T144819Z
LAST-MODIFIED:20230420T150745Z
UID:11728-1683907200-1684079999@wac.aswatson.com
SUMMARY:Hong Kong Junior Age Group Athletic Competition Race 2
DESCRIPTION:
URL:https://wac.aswatson.com/event/hong-kong-junior-age-group-athletic-meet-2023-2/
LOCATION:Tseung Kwan O Sports Ground\, 109 Po Hong Road\, Hong Kong
ORGANIZER;CN="%5B%3Aen%5DHong%20Kong%2C%20China%20Association%20of%20Athletics%20Affiliates%5B%3Azh%5D%E4%B8%AD%E5%9C%8B%E9%A6%99%E6%B8%AF%E7%94%B0%E5%BE%91%E7%B8%BD%E6%9C%83%5B%3A%5D":MAILTO:inquiry@hkaaa.com
END:VEVENT
BEGIN:VEVENT
DTSTART;VALUE=DATE:20230520
DTEND;VALUE=DATE:20230521
DTSTAMP:20260422T033818
CREATED:20230420T145538Z
LAST-MODIFIED:20230420T145538Z
UID:11739-1684512000-1684598399@wac.aswatson.com
SUMMARY:66th Festival of Sport Youth and Kids Athletics Day 2023 (Kids’ Athletics)
DESCRIPTION:
URL:https://wac.aswatson.com/event/66th-festival-of-sport-youth-and-kids-athletics-day-2023-kids-athletics/
LOCATION:Wan Chai Sports Ground\, 20 Tonnochy Road\, Wan Chai\, Hong Kong
ORGANIZER;CN="%5B%3Aen%5DHong%20Kong%2C%20China%20Association%20of%20Athletics%20Affiliates%5B%3Azh%5D%E4%B8%AD%E5%9C%8B%E9%A6%99%E6%B8%AF%E7%94%B0%E5%BE%91%E7%B8%BD%E6%9C%83%5B%3A%5D":MAILTO:inquiry@hkaaa.com
END:VEVENT
BEGIN:VEVENT
DTSTART;VALUE=DATE:20230521
DTEND;VALUE=DATE:20230522
DTSTAMP:20260422T033818
CREATED:20230420T145645Z
LAST-MODIFIED:20230420T145645Z
UID:11741-1684598400-1684684799@wac.aswatson.com
SUMMARY:66th Festival of Sport Youth and Kids Athletics Day 2023
DESCRIPTION:
URL:https://wac.aswatson.com/event/66th-festival-of-sport-youth-and-kids-athletics-day-2023/
LOCATION:Wan Chai Sports Ground\, 20 Tonnochy Road\, Wan Chai\, Hong Kong
ORGANIZER;CN="%5B%3Aen%5DHong%20Kong%2C%20China%20Association%20of%20Athletics%20Affiliates%5B%3Azh%5D%E4%B8%AD%E5%9C%8B%E9%A6%99%E6%B8%AF%E7%94%B0%E5%BE%91%E7%B8%BD%E6%9C%83%5B%3A%5D":MAILTO:inquiry@hkaaa.com
END:VEVENT
END:VCALENDAR