BEGIN:VCALENDAR
VERSION:2.0
PRODID:-//屈臣氏田徑會 - ECPv5.1.4//NONSGML v1.0//EN
CALSCALE:GREGORIAN
METHOD:PUBLISH
X-WR-CALNAME:屈臣氏田徑會
X-ORIGINAL-URL:https://wac.aswatson.com/zh
X-WR-CALDESC:Events for 屈臣氏田徑會
BEGIN:VTIMEZONE
TZID:Asia/Shanghai
BEGIN:STANDARD
TZOFFSETFROM:+0800
TZOFFSETTO:+0800
TZNAME:CST
DTSTART:20221231T160000
END:STANDARD
END:VTIMEZONE
BEGIN:VEVENT
DTSTART;VALUE=DATE:20230204
DTEND;VALUE=DATE:20230205
DTSTAMP:20260422T174023
CREATED:20221221T120128Z
LAST-MODIFIED:20221221T120128Z
UID:11624-1675440000-1675526399@wac.aswatson.com
SUMMARY:簡易運動大賽—田徑比賽
DESCRIPTION:
URL:https://wac.aswatson.com/zh/event/easy-sports-athletics-competition/
END:VEVENT
BEGIN:VEVENT
DTSTART;VALUE=DATE:20230212
DTEND;VALUE=DATE:20230213
DTSTAMP:20260422T174023
CREATED:20220620T112110Z
LAST-MODIFIED:20221108T181148Z
UID:10253-1676131200-1676217599@wac.aswatson.com
SUMMARY:第25屆渣打香港馬拉松　
DESCRIPTION:
URL:https://wac.aswatson.com/zh/event/the-25th-standard-chartered-hong-kong-marathon/
ORGANIZER;CN="%5B%3Aen%5DHong%20Kong%2C%20China%20Association%20of%20Athletics%20Affiliates%5B%3Azh%5D%E4%B8%AD%E5%9C%8B%E9%A6%99%E6%B8%AF%E7%94%B0%E5%BE%91%E7%B8%BD%E6%9C%83%5B%3A%5D":MAILTO:inquiry@hkaaa.com
END:VEVENT
BEGIN:VEVENT
DTSTART;VALUE=DATE:20230225
DTEND;VALUE=DATE:20230227
DTSTAMP:20260422T174023
CREATED:20221129T161915Z
LAST-MODIFIED:20221221T115915Z
UID:11562-1677254400-1677427199@wac.aswatson.com
SUMMARY:香港田徑系列賽 1
DESCRIPTION:
URL:https://wac.aswatson.com/zh/event/hong-kong-athletics-series-2023-series-1/
LOCATION:Wan Chai Sports Ground\, 20 Tonnochy Road\, Wan Chai\, Hong Kong
ORGANIZER;CN="%5B%3Aen%5DHong%20Kong%2C%20China%20Association%20of%20Athletics%20Affiliates%5B%3Azh%5D%E4%B8%AD%E5%9C%8B%E9%A6%99%E6%B8%AF%E7%94%B0%E5%BE%91%E7%B8%BD%E6%9C%83%5B%3A%5D":MAILTO:inquiry@hkaaa.com
END:VEVENT
END:VCALENDAR