BEGIN:VCALENDAR
VERSION:2.0
PRODID:-//屈臣氏田徑會 - ECPv5.1.4//NONSGML v1.0//EN
CALSCALE:GREGORIAN
METHOD:PUBLISH
X-WR-CALNAME:屈臣氏田徑會
X-ORIGINAL-URL:https://wac.aswatson.com/zh
X-WR-CALDESC:Events for 屈臣氏田徑會
BEGIN:VTIMEZONE
TZID:Asia/Shanghai
BEGIN:STANDARD
TZOFFSETFROM:+0800
TZOFFSETTO:+0800
TZNAME:CST
DTSTART:20241231T160000
END:STANDARD
END:VTIMEZONE
BEGIN:VEVENT
DTSTART;VALUE=DATE:20250209
DTEND;VALUE=DATE:20250210
DTSTAMP:20260420T164443
CREATED:20241121T152038Z
LAST-MODIFIED:20241121T153256Z
UID:14221-1739030400-1739116799@wac.aswatson.com
SUMMARY:渣打香港馬拉松
DESCRIPTION:
URL:https://wac.aswatson.com/zh/event/standard-chartered-hong-kong-marathon-3/
CATEGORIES:Road Race
ORGANIZER;CN="%5B%3Aen%5DHong%20Kong%2C%20China%20Association%20of%20Athletics%20Affiliates%5B%3Azh%5D%E4%B8%AD%E5%9C%8B%E9%A6%99%E6%B8%AF%E7%94%B0%E5%BE%91%E7%B8%BD%E6%9C%83%5B%3A%5D":MAILTO:inquiry@hkaaa.com
END:VEVENT
BEGIN:VEVENT
DTSTART;VALUE=DATE:20250215
DTEND;VALUE=DATE:20250217
DTSTAMP:20260420T164443
CREATED:20241121T152121Z
LAST-MODIFIED:20250211T111348Z
UID:14223-1739548800-1739721599@wac.aswatson.com
SUMMARY:香港田徑系列賽2025 - 系列賽一
DESCRIPTION:
URL:https://wac.aswatson.com/zh/event/hong-kong-athletics-series-1-5/
LOCATION:Wan Chai Sports Ground\, 20 Tonnochy Road\, Wan Chai\, Hong Kong
CATEGORIES:Track and Field
ORGANIZER;CN="%5B%3Aen%5DHong%20Kong%2C%20China%20Association%20of%20Athletics%20Affiliates%5B%3Azh%5D%E4%B8%AD%E5%9C%8B%E9%A6%99%E6%B8%AF%E7%94%B0%E5%BE%91%E7%B8%BD%E6%9C%83%5B%3A%5D":MAILTO:inquiry@hkaaa.com
END:VEVENT
BEGIN:VEVENT
DTSTART;VALUE=DATE:20250223
DTEND;VALUE=DATE:20250224
DTSTAMP:20260420T164443
CREATED:20250211T111158Z
LAST-MODIFIED:20250211T111529Z
UID:14301-1740240000-1740326399@wac.aswatson.com
SUMMARY:香港青少年田徑分齡賽 (一)
DESCRIPTION:
URL:https://wac.aswatson.com/zh/event/hong-kong-junior-age-group-athletics-competition-1-2/
LOCATION:Wan Chai Sports Ground\, 20 Tonnochy Road\, Wan Chai\, Hong Kong
CATEGORIES:Track and Field
ORGANIZER;CN="%5B%3Aen%5DPacers%20Athletic%20Club%5B%3Azh%5D%E9%A3%9B%E9%81%94%E7%94%B0%E5%BE%91%E6%9C%83%5B%3A%5D":MAILTO:info@pacers.org.hk
END:VEVENT
END:VCALENDAR